BEGIN:VCALENDAR
VERSION:2.0
PRODID:-//Rag Mama Rag - ECPv6.15.20//NONSGML v1.0//EN
CALSCALE:GREGORIAN
METHOD:PUBLISH
X-ORIGINAL-URL:https://rag-mama-rag.com
X-WR-CALDESC:Events for Rag Mama Rag
REFRESH-INTERVAL;VALUE=DURATION:PT1H
X-Robots-Tag:noindex
X-PUBLISHED-TTL:PT1H
BEGIN:VTIMEZONE
TZID:UTC
BEGIN:STANDARD
TZOFFSETFROM:+0000
TZOFFSETTO:+0000
TZNAME:UTC
DTSTART:20240101T000000
END:STANDARD
END:VTIMEZONE
BEGIN:VEVENT
DTSTART;TZID=UTC:20250622T150000
DTEND;TZID=UTC:20250622T170000
DTSTAMP:20260422T131400
CREATED:20250221T113555Z
LAST-MODIFIED:20250609T163808Z
UID:2174-1750604400-1750611600@rag-mama-rag.com
SUMMARY:Restaurant Bar Chez Nicole
DESCRIPTION:Restaurant Bar Chez Nicole \n\nLe Bourg\, 46350 Masclat\npour réserver le repas du midi (13.30) téléphone 05 65 37 62 04\nconcert l’après midi à partir de 15.30 heures
URL:https://rag-mama-rag.com/event/restaurant-bar-chez-nicole/
CATEGORIES:Concerts
END:VEVENT
END:VCALENDAR