BEGIN:VCALENDAR
VERSION:2.0
PRODID:-//Rag Mama Rag - ECPv6.15.20//NONSGML v1.0//EN
CALSCALE:GREGORIAN
METHOD:PUBLISH
X-ORIGINAL-URL:https://rag-mama-rag.com
X-WR-CALDESC:Events for Rag Mama Rag
REFRESH-INTERVAL;VALUE=DURATION:PT1H
X-Robots-Tag:noindex
X-PUBLISHED-TTL:PT1H
BEGIN:VTIMEZONE
TZID:UTC
BEGIN:STANDARD
TZOFFSETFROM:+0000
TZOFFSETTO:+0000
TZNAME:UTC
DTSTART:20240101T000000
END:STANDARD
END:VTIMEZONE
BEGIN:VEVENT
DTSTART;TZID=UTC:20250712T200000
DTEND;TZID=UTC:20250712T230000
DTSTAMP:20260422T113504
CREATED:20241114T161709Z
LAST-MODIFIED:20241114T161709Z
UID:2166-1752350400-1752361200@rag-mama-rag.com
SUMMARY:La Randonnée Fluviale
DESCRIPTION:La Randonnée Fluviale\, \nRue du Tranchard\, 16730 Fléac\, France \nDiner Concert reservation tel 0782110094
URL:https://rag-mama-rag.com/event/la-randonnee-fluviale-4/
CATEGORIES:Concerts
END:VEVENT
END:VCALENDAR