BEGIN:VCALENDAR
VERSION:2.0
PRODID:-//Rag Mama Rag - ECPv6.15.20//NONSGML v1.0//EN
CALSCALE:GREGORIAN
METHOD:PUBLISH
X-WR-CALNAME:Rag Mama Rag
X-ORIGINAL-URL:https://rag-mama-rag.com
X-WR-CALDESC:Events for Rag Mama Rag
REFRESH-INTERVAL;VALUE=DURATION:PT1H
X-Robots-Tag:noindex
X-PUBLISHED-TTL:PT1H
BEGIN:VTIMEZONE
TZID:UTC
BEGIN:STANDARD
TZOFFSETFROM:+0000
TZOFFSETTO:+0000
TZNAME:UTC
DTSTART:20240101T000000
END:STANDARD
END:VTIMEZONE
BEGIN:VEVENT
DTSTART;TZID=UTC:20250821T203000
DTEND;TZID=UTC:20250821T230000
DTSTAMP:20260420T114453
CREATED:20250221T115848Z
LAST-MODIFIED:20250221T115848Z
UID:2186-1755808200-1755817200@rag-mama-rag.com
SUMMARY:Les Jeudis de Musiques à Gourdon
DESCRIPTION:Les Jeudis de Musiques à Gourdon\nconcert gratuit le soir à la place de la poste à 20.45
URL:https://rag-mama-rag.com/event/les-jeudis-de-musiques-a-gourdon/
CATEGORIES:Concerts
END:VEVENT
END:VCALENDAR