BEGIN:VCALENDAR
VERSION:2.0
PRODID:-//Rag Mama Rag - ECPv6.15.20//NONSGML v1.0//EN
CALSCALE:GREGORIAN
METHOD:PUBLISH
X-ORIGINAL-URL:https://rag-mama-rag.com
X-WR-CALDESC:Events for Rag Mama Rag
REFRESH-INTERVAL;VALUE=DURATION:PT1H
X-Robots-Tag:noindex
X-PUBLISHED-TTL:PT1H
BEGIN:VTIMEZONE
TZID:UTC
BEGIN:STANDARD
TZOFFSETFROM:+0000
TZOFFSETTO:+0000
TZNAME:UTC
DTSTART:20240101T000000
END:STANDARD
END:VTIMEZONE
BEGIN:VEVENT
DTSTART;TZID=UTC:20250614T200000
DTEND;TZID=UTC:20250614T230000
DTSTAMP:20260422T114331
CREATED:20241114T161447Z
LAST-MODIFIED:20241114T161447Z
UID:2164-1749931200-1749942000@rag-mama-rag.com
SUMMARY:La Randonnée Fluviale
DESCRIPTION:La Randonnée Fluviale\, \nRue du Tranchard\, 16730 Fléac\, France \nDiner Concert reservation tel 0782110094
URL:https://rag-mama-rag.com/event/la-randonnee-fluviale-3/
CATEGORIES:Concerts
END:VEVENT
BEGIN:VEVENT
DTSTART;TZID=UTC:20250621T200000
DTEND;TZID=UTC:20250621T220000
DTSTAMP:20260422T114331
CREATED:20250608T153220Z
LAST-MODIFIED:20250608T153220Z
UID:2267-1750536000-1750543200@rag-mama-rag.com
SUMMARY:Casino de Alvignac
DESCRIPTION:Rte de Padirac\, 46500 Alvignac\, France\ntel 05 65 33 77 70 \nconcert le soir à 20 heures \nréservations tel où visiter https://casino-alvignac.com/2025/06/02/programme-de-juin/
URL:https://rag-mama-rag.com/event/casino-de-alvignac-2/
CATEGORIES:Concerts
END:VEVENT
BEGIN:VEVENT
DTSTART;TZID=UTC:20250622T150000
DTEND;TZID=UTC:20250622T170000
DTSTAMP:20260422T114331
CREATED:20250221T113555Z
LAST-MODIFIED:20250609T163808Z
UID:2174-1750604400-1750611600@rag-mama-rag.com
SUMMARY:Restaurant Bar Chez Nicole
DESCRIPTION:Restaurant Bar Chez Nicole \n\nLe Bourg\, 46350 Masclat\npour réserver le repas du midi (13.30) téléphone 05 65 37 62 04\nconcert l’après midi à partir de 15.30 heures
URL:https://rag-mama-rag.com/event/restaurant-bar-chez-nicole/
CATEGORIES:Concerts
END:VEVENT
BEGIN:VEVENT
DTSTART;TZID=UTC:20250628T200000
DTEND;TZID=UTC:20250628T230000
DTSTAMP:20260422T114331
CREATED:20250428T074404Z
LAST-MODIFIED:20250627T145916Z
UID:2190-1751140800-1751151600@rag-mama-rag.com
SUMMARY:D Family & Co
DESCRIPTION:Restaurant Bar D Family & Co \nPlace de la mairie 46700 Duravel \nReservation Tel: 05 65 35 29 43 ou email agathedidion5@gmail.com \nDiner concert le soir \nBonjour à tous\,\nMalheureusement\, pour des raisons d’un problème de santé\, notre concert à Duravel chez D Family et Co demain soir\, le 28.06\, a été annulé.\nDésoler si vous avez déjà réservé\nOn essaiera de re programmer le concert pour plus tard\nHi everyone\,\nplease would you note that our concert for tomorrow evening\, the 28.06\, at D Family and Co at Duravel has been cancelled due to sickness. We hope to reschedule the concert for later in the year.\nAshley et Deborah
URL:https://rag-mama-rag.com/event/d-family-co-2/
CATEGORIES:Concerts
END:VEVENT
END:VCALENDAR